BEGIN:VCALENDAR
VERSION:2.0
PRODID:-//JAEK - ECPv6.15.17.1//NONSGML v1.0//EN
CALSCALE:GREGORIAN
METHOD:PUBLISH
X-WR-CALNAME:JAEK
X-ORIGINAL-URL:https://www.jaek.ee
X-WR-CALDESC:Events for JAEK
REFRESH-INTERVAL;VALUE=DURATION:PT1H
X-Robots-Tag:noindex
X-PUBLISHED-TTL:PT1H
BEGIN:VTIMEZONE
TZID:UTC
BEGIN:STANDARD
TZOFFSETFROM:+0000
TZOFFSETTO:+0000
TZNAME:UTC
DTSTART:20250101T000000
END:STANDARD
END:VTIMEZONE
BEGIN:VEVENT
DTSTART;TZID=UTC:20260421T150000
DTEND;TZID=UTC:20260430T170000
DTSTAMP:20260421T014001
CREATED:20260417T063006Z
LAST-MODIFIED:20260417T063415Z
UID:28669-1776783600-1777568400@www.jaek.ee
SUMMARY:Üleriigilise planeeringu „Eesti 2050“ avalikud arutelud
DESCRIPTION:KUTSE üleriigilise planeeringu „Eesti 2050“ avalikele aruteludele\nMajandus- ja Kommunikatsiooniministeerium ootab üleriigilise planeeringu aruteludele. Kohtumisel tutvustatakse esialgset planeeringulahendust\, räägitakse keskkonnamõju hindamisest ja antakse ülevaade avalikul väljapanekul laekunud ettepanekutest. Samuti arutletakse\, kuidas saab planeeringu kaudu toetada tugevamat regionaalset tasakaalu kogu Eestis. Just praegu on õige hetk aruteluga ühineda\, sest planeeringu eelnõu hakatakse täiendama. \nTule\, kuula ja räägi kaasa järgneva 20+ aasta ruumiarengule! \nTutvu lähemalt: Veebiraamat | Riigiplaneering \n  \nArutelud toimuvad: \n21. aprill kl 15-18.00 – Thule koda Uus 20\, Kuressaare \n22. aprill kl 14-17.00 – ministeeriumide ühishoone\, Suur-Ameerika 1\, Tallinn \n24. aprill kl 14-17.00 – kood Jõhvi\, Tartu põik 5\, Jõhvi \n27. aprill kl 14-17.00 – Pärnu Riigimaja\,  Akadeemia 2\, Pärnu \n29. aprill kl 14-17.00 – kood Võru\, Tartu 25\, Võru \n30. aprill  kl 14-17.00- veebitutvustus 
URL:https://www.jaek.ee/event/uleriigilise-planeeringu-eesti-2050-avalikud-arutelud/
LOCATION:Erinevad asukohad\, Erinevad asukohad
CATEGORIES:Infopäev
END:VEVENT
END:VCALENDAR