BEGIN:VCALENDAR
VERSION:2.0
PRODID:-//JAEK - ECPv6.15.17.1//NONSGML v1.0//EN
CALSCALE:GREGORIAN
METHOD:PUBLISH
X-ORIGINAL-URL:https://www.jaek.ee
X-WR-CALDESC:Events for JAEK
REFRESH-INTERVAL;VALUE=DURATION:PT1H
X-Robots-Tag:noindex
X-PUBLISHED-TTL:PT1H
BEGIN:VTIMEZONE
TZID:UTC
BEGIN:STANDARD
TZOFFSETFROM:+0000
TZOFFSETTO:+0000
TZNAME:UTC
DTSTART:20200101T000000
END:STANDARD
END:VTIMEZONE
BEGIN:VEVENT
DTSTART;TZID=UTC:20211119T100000
DTEND;TZID=UTC:20211119T153000
DTSTAMP:20260420T063859
CREATED:20211110T083043Z
LAST-MODIFIED:20211110T084524Z
UID:5167-1637316000-1637335800@www.jaek.ee
SUMMARY:Naiste ettevõtluse konverents 2021
DESCRIPTION:Konverentsi eesmärgiks on sel korral esile tõsta ja tunnustada naisi\, kes tegutsevad nö mittenaiselikes valdkondades nagu tehnoloogia ja innovatsioon kui ka naisi\, kes hoolimata nende elu kõiki aspekte mõjutavast erivajadusest on ometi valinud ettevõtja raske missiooni. \nKonverentsile parema ligipääsetavuse tagamiseks kasutame sel korral ka kirjutustõlget\, tagatud on ligipääs ka vaegliikujatele.Konverentsil saab kohapeal osaleda vaid kehtiva vaktsineerimis- või läbipõdemistõendi alusel\, mida kontrollitakse. Võimalus silmast silma kokku saada on viiruse erinõuete tõttu ainult kuni 60 osalejal (1/3 saali mahutavusest). Konverentsi ajal on rangelt soovituslik kanda meditsiinilist maski.Oleme vajadusel valmis korraldama konverentsi täielikult virtuaalselt\, osalejatele anname sel juhul teada. \nKonverentsi päevakava\n10.00–11.00 Saabumine\, vaktsineerituse kontroll ja tervituskohv. \n10.15 Soovijatele ettevõtete ja ettevõtjate tutvustus. Tutvustame kohapeal ja virtuaalselt ka ENUTi (välk)raamatukogu väljaandeid. Tutvustame heategevusaktsiooni Helpific’ule. \n11.00–11.25 Konverentsi avamine \nAvasõnad naiste ettevõtluse edendamisest Eestis ja rahvusvaheliselt – Reet Laja\, Eesti Naisuurimus- ja Teabekeskuse (ENUT) juhatuse esinaine.Majandus- ja Kommunikatsiooniministeeriumi tervitus-sissejuhatus (majanduse kolmikpööre\, CERN ja uus organisatsioon) – Sille Kraam\, majandusarengu asekantsler.Eesti Ettevõtluskõrgkooli Mainor tervitus – Ly Hõbe\, õppeprorektor.       \n11.25–12.40 Paneeldiskussioon: Piire ületades \nArutelu juhib: Riin Ehin\, Contenta OÜ asutaja ja juhatuse liige\, BioCC teadur\, TTÜ IT teaduskonna doktorant.Osavõtjad: Mariia Voznesenskaia\, MSc\, CEO Difrotec OÜ; Kadi Pajupuu\, tekstiilikunstnik\,professor\, Kõrgem Kunstikool Pallas\, leiutaja\, ettevõtja; Agnes Roos\, Eesti Energia juhatuseliige; Diana Sosnovski\, Esthus juhatuse liige; Kelly Kangur\, Decomer Technology\, juhatuseliige (kokkuleppimisel). \n12.40–13.15 Vaheaeg  / Lõuna \n13.15–13.30 Rõõmukoputus v hea tuju koputamine – Brigitty Luus. \n13.30–14.00 Peaettekanne: Riigi tugi ettevõtjale. Sigrid Rajalo\, MKMi majandusarengu osakonna arendusvaldkonna juht. \n14.00–15.15  Paneeldiskussioon: Piire ületades \nArutelu juhib: Aet Kull\, Eesti Ettevõtluskõrgkool Mainor turunduse erialajuht\, ärimentor ja ettevõtja.Osavõtjad puuetega naised-ettevõtjad: Keiu Roosimägi – Helpific\, jurist; Külliki Bode – Kuulmisbuss\, Eesti Vaegkuuljate Liit; Ingrid Põldemaa – konsultant\, jurist\, Reumafoorum\, Eesti Reumaliit; Mare Abner – MTÜ Eesti Puuetega Naiste Ühenduste Liit\, asutaja; Merike Freienthal – Kodutare käsitöökeskus\, juhataja. \n15.15–15.30 Päeva kokkuvõte ja tänuavaldused \nKonverentsi korraldab Eesti Naisuurimus- ja Teabekeskus (ENUT) koostöös Eesti Ettevõtluskõrgkooliga Mainor ja naiste ettevõtlust toetavate vabaühenduste võrgustikuga. \nKonverentsi rahastab Friedrich Eberti Fond. \nSündmuse toimumist toetab Majandus- ja Kommunikatsiooniministeerium. \nLisainformatsioon: Marion RündalENUTi projektijuhte-post: marionryndal@gmail.com või tel. 5162 146
URL:https://www.jaek.ee/event/koolitus-millest-alustada-e-poe-loomisel-duplicate-1/
LOCATION:Ministeeriumide ühishoone\, Suur-Ameerika 1\, Tallinn\, Eesti
CATEGORIES:Muu
ATTACH;FMTTYPE=image/png:https://www.jaek.ee/wp-content/uploads/2021/11/naiste-ettevotluse-konverents_FB-1024x576-1.png
ORGANIZER;CN="Marion R%C3%BCndal":MAILTO:marionryndal@gmail.com
END:VEVENT
END:VCALENDAR