BEGIN:VCALENDAR
VERSION:2.0
PRODID:-//JAEK - ECPv6.15.17.1//NONSGML v1.0//EN
CALSCALE:GREGORIAN
METHOD:PUBLISH
X-ORIGINAL-URL:https://www.jaek.ee
X-WR-CALDESC:Events for JAEK
REFRESH-INTERVAL;VALUE=DURATION:PT1H
X-Robots-Tag:noindex
X-PUBLISHED-TTL:PT1H
BEGIN:VTIMEZONE
TZID:UTC
BEGIN:STANDARD
TZOFFSETFROM:+0000
TZOFFSETTO:+0000
TZNAME:UTC
DTSTART:20220101T000000
END:STANDARD
END:VTIMEZONE
BEGIN:VEVENT
DTSTART;TZID=UTC:20230201T100000
DTEND;TZID=UTC:20230201T130000
DTSTAMP:20260420T070831
CREATED:20230130T074558Z
LAST-MODIFIED:20230130T074558Z
UID:8158-1675245600-1675256400@www.jaek.ee
SUMMARY:Kultuurikorraldajate infopäev
DESCRIPTION:Kultuur on investeering. Investeering sellesse\, et säiliksid meie keel ja kombed ning et uued põlvkonnad ei jääks ilma kultuurilisest aluspõhjast\, mis meie rahvast ühendab. \nMTÜ Jõgevamaa Kultuurikoda kutsub teid kokku : \n  \n1.veebruar.2023.a. kell 10.00 – 13.00 \nJõgeva Kultuurikeskusesse \n  \nSihtgrupp: rahvamajad\, KOVide kultuurinõunikud\, vabaühendused \, kes korraldavad kultuurisündmusi\, riigimuuseumi esindaja\, raamatukogu esindaja. \n  \nTeemad: \n– Sõna teile – kultuurikorraldus rahvamajades\, kultuuriasutustes\, KOVides \n– JAEK-i tegevjuht Aive Tamm – ootused maakondlikule kultuurikorraldusele \n– Uudised erinevatelt koostööpartneritelt kultuuri valdkonnas – Tiina Tegelmann \n– Olulised maakondlikud sündmused 2023.a. / 2024.a.\, maakondlik kultuurikalender ja ühise koostöövõrgustiku väga täpne koostamine – ühine arutelu\, ettepanekud \n– Jõgevamaa laulu- ja tantsupidu KOLME KANDI LOOD toimub 3. juunil 2023 Põltsamaa lossihoovis – projektijuht Janne Karu \n– Eesti Rahvakultuurikeskuse info – Jõgevamaa rahvakultuurispetsialist Pille Tutt \n– Ettepanekud
URL:https://www.jaek.ee/event/kultuurikorraldajate-infopaev/
LOCATION:Jõgeva Kultuurikeskus\, Jõgeva Kultuurikeskus\, Aia 6
CATEGORIES:Seminar
ATTACH;FMTTYPE=image/jpeg:https://www.jaek.ee/wp-content/uploads/2023/01/IMG_20230127_130730-scaled.jpg
ORGANIZER;CN="SA JAEK":MAILTO:arendus@jaek.ee
END:VEVENT
END:VCALENDAR