BEGIN:VCALENDAR
VERSION:2.0
PRODID:-//JAEK - ECPv6.15.17.1//NONSGML v1.0//EN
CALSCALE:GREGORIAN
METHOD:PUBLISH
X-WR-CALNAME:JAEK
X-ORIGINAL-URL:https://www.jaek.ee
X-WR-CALDESC:Events for JAEK
REFRESH-INTERVAL;VALUE=DURATION:PT1H
X-Robots-Tag:noindex
X-PUBLISHED-TTL:PT1H
BEGIN:VTIMEZONE
TZID:UTC
BEGIN:STANDARD
TZOFFSETFROM:+0000
TZOFFSETTO:+0000
TZNAME:UTC
DTSTART:20220101T000000
END:STANDARD
END:VTIMEZONE
BEGIN:VEVENT
DTSTART;TZID=UTC:20230306T140000
DTEND;TZID=UTC:20230306T173000
DTSTAMP:20260420T053026
CREATED:20230217T100404Z
LAST-MODIFIED:20230220T081529Z
UID:8326-1678111200-1678123800@www.jaek.ee
SUMMARY:Infoseminar “Tulumaksusoodustusega ühingute nimekirja kuulumise eelistest ja maksusoodustustest”
DESCRIPTION:Tulumaksusoodustusega mittetulundusühingute nimekiri – mis kasu sellest on ja kas minu MTÜ võiks ka sinna kuuluda?\nKui teema pakub huvi\, siis oled oodatud 6. märtsil kl 14.00 – 15.30 tasuta veebiseminarile “Tulumaksusoodustusega ühingute nimekirja kuulumise eelistest ja maksusoodustustest”.\n\n\nSeminari viivad läbi Maksu- ja Tolliameti spetsialistid Regina Varret ja Roland Jaamu.\nRegistreerimine kuni 5. märtsini https://docs.google.com/…/1FAIpQLSdj33D0OkREAv…/viewform
URL:https://www.jaek.ee/event/infoseminar-tulumaksusoodustusega-uhingute-nimekirja-kuulumise-eelistest-ja-maksusoodustustest/
LOCATION:Põltsamaa vald
CATEGORIES:Infopäev,Seminar
ATTACH;FMTTYPE=image/jpeg:https://www.jaek.ee/wp-content/uploads/2023/02/331087633_1378819362886364_6756644484067969377_n.jpg
END:VEVENT
END:VCALENDAR